BEGIN:VCALENDAR
VERSION:2.0
PRODID:-//Lighthouse 222 Ministry - ECPv6.11.2//NONSGML v1.0//EN
CALSCALE:GREGORIAN
METHOD:PUBLISH
X-WR-CALNAME:Lighthouse 222 Ministry
X-ORIGINAL-URL:https://lighthouse222.com
X-WR-CALDESC:Events for Lighthouse 222 Ministry
REFRESH-INTERVAL;VALUE=DURATION:PT1H
X-Robots-Tag:noindex
X-PUBLISHED-TTL:PT1H
BEGIN:VTIMEZONE
TZID:America/Detroit
BEGIN:DAYLIGHT
TZOFFSETFROM:-0500
TZOFFSETTO:-0400
TZNAME:EDT
DTSTART:20250309T070000
END:DAYLIGHT
BEGIN:STANDARD
TZOFFSETFROM:-0400
TZOFFSETTO:-0500
TZNAME:EST
DTSTART:20251102T060000
END:STANDARD
BEGIN:DAYLIGHT
TZOFFSETFROM:-0500
TZOFFSETTO:-0400
TZNAME:EDT
DTSTART:20260308T070000
END:DAYLIGHT
BEGIN:STANDARD
TZOFFSETFROM:-0400
TZOFFSETTO:-0500
TZNAME:EST
DTSTART:20261101T060000
END:STANDARD
END:VTIMEZONE
BEGIN:VEVENT
DTSTART;TZID=America/Detroit:20260221T080000
DTEND;TZID=America/Detroit:20260221T170000
DTSTAMP:20260424T051324
CREATED:20260221T183327Z
LAST-MODIFIED:20260221T183327Z
UID:9674-1771660800-1771693200@lighthouse222.com
SUMMARY:
DESCRIPTION:
URL:https://lighthouse222.com/event/9674/
END:VEVENT
BEGIN:VEVENT
DTSTART;TZID=America/Detroit:20260221T080000
DTEND;TZID=America/Detroit:20260221T170000
DTSTAMP:20260424T051324
CREATED:20260221T183240Z
LAST-MODIFIED:20260221T183240Z
UID:9671-1771660800-1771693200@lighthouse222.com
SUMMARY:
DESCRIPTION:
URL:https://lighthouse222.com/event/9671/
END:VEVENT
BEGIN:VEVENT
DTSTART;VALUE=DATE:20250509
DTEND;VALUE=DATE:20250512
DTSTAMP:20260424T051324
CREATED:20250324T015948Z
LAST-MODIFIED:20250324T020245Z
UID:9653-1746748800-1747007999@lighthouse222.com
SUMMARY:Revival at Lighthouse 222
DESCRIPTION:🔥 REVIVAL at Lighthouse 222 🔥Praise – Worship – Prophecy – Healings – Miracles \nJoin us for three powerful nights of transformation and breakthrough at our Revival Weekend with Evangelist Adam Williams! \n📅 Dates: Friday\, Saturday & Sunday – May 9–11\, 2025🕖 Time: 7:00 PM nightly📍 Location: Lighthouse 222 Ministry182 W Jackson Street\, Painesville\, OH 44077 \n🙌 Experience the power of God through: \n\n\nAnointed preaching \n\n\nProphetic ministry \n\n\nLive worship \n\n\nHealing and deliverance \n\n\nA fresh move of the Holy Spirit \n\n\n🎁 FREE RAFFLE Every Night!You could win a flatscreen TV or gift cards – no purchase necessary! \n🍽️ Free Hot Meal served to all attendees – come hungry and leave filled both physically and spiritually! \n✨ Hosted by Miracle Revival Ministry at Lighthouse 222 \nThis is your moment. Come expecting. Come ready. Come and encounter Jesus in a life-changing way!Everyone is welcome – bring your friends and family!
URL:https://lighthouse222.com/event/revival-at-lighthouse-222/
LOCATION:Lighthouse 222 Ministry\, 182 W Jackson St\, Painesville\, Ohio\, 44077
ATTACH;FMTTYPE=image/jpeg:https://lighthouse222.com/wp-content/uploads/2025/03/IMG_6773.jpeg
END:VEVENT
BEGIN:VEVENT
DTSTART;TZID=America/Detroit:20250328T183000
DTEND;TZID=America/Detroit:20250328T200000
DTSTAMP:20260424T051324
CREATED:20250224T163314Z
LAST-MODIFIED:20250224T163314Z
UID:9647-1743186600-1743192000@lighthouse222.com
SUMMARY:Bible Study
DESCRIPTION:Join us every Friday at 6:30pm for Bible Study! Come dive into scripture with us and get a free hot meal. \n— \nOur extended hands mission is a street team that evangelize’s and distributes care packages to homeless on the street and in shelters\, drug rehabs and battered women and children facilities. We also invite them to Friday night bibles study were we serve hot meals. If you are lead to sow into this mission you can by simply tapping the link below. \nSupport
URL:https://lighthouse222.com/event/bible-study-mar-28/
LOCATION:Lighthouse 222 Ministry\, 182 W Jackson St\, Painesville\, Ohio\, 44077
ATTACH;FMTTYPE=image/jpeg:https://lighthouse222.com/wp-content/uploads/2025/02/image0-3.jpeg
END:VEVENT
BEGIN:VEVENT
DTSTART;TZID=America/Detroit:20250321T183000
DTEND;TZID=America/Detroit:20250321T200000
DTSTAMP:20260424T051324
CREATED:20250224T163252Z
LAST-MODIFIED:20250224T163252Z
UID:9645-1742581800-1742587200@lighthouse222.com
SUMMARY:Bible Study
DESCRIPTION:Join us every Friday at 6:30pm for Bible Study! Come dive into scripture with us and get a free hot meal. \n— \nOur extended hands mission is a street team that evangelize’s and distributes care packages to homeless on the street and in shelters\, drug rehabs and battered women and children facilities. We also invite them to Friday night bibles study were we serve hot meals. If you are lead to sow into this mission you can by simply tapping the link below. \nSupport
URL:https://lighthouse222.com/event/bible-study-mar-21/
LOCATION:Lighthouse 222 Ministry\, 182 W Jackson St\, Painesville\, Ohio\, 44077
ATTACH;FMTTYPE=image/jpeg:https://lighthouse222.com/wp-content/uploads/2025/02/image0-3.jpeg
END:VEVENT
BEGIN:VEVENT
DTSTART;TZID=America/Detroit:20250314T183000
DTEND;TZID=America/Detroit:20250314T200000
DTSTAMP:20260424T051324
CREATED:20250224T163233Z
LAST-MODIFIED:20250224T163233Z
UID:9643-1741977000-1741982400@lighthouse222.com
SUMMARY:Bible Study
DESCRIPTION:Join us every Friday at 6:30pm for Bible Study! Come dive into scripture with us and get a free hot meal. \n— \nOur extended hands mission is a street team that evangelize’s and distributes care packages to homeless on the street and in shelters\, drug rehabs and battered women and children facilities. We also invite them to Friday night bibles study were we serve hot meals. If you are lead to sow into this mission you can by simply tapping the link below. \nSupport
URL:https://lighthouse222.com/event/bible-study-mar-14/
LOCATION:Lighthouse 222 Ministry\, 182 W Jackson St\, Painesville\, Ohio\, 44077
ATTACH;FMTTYPE=image/jpeg:https://lighthouse222.com/wp-content/uploads/2025/02/image0-3.jpeg
END:VEVENT
BEGIN:VEVENT
DTSTART;TZID=America/Detroit:20250307T183000
DTEND;TZID=America/Detroit:20250307T200000
DTSTAMP:20260424T051324
CREATED:20250224T163214Z
LAST-MODIFIED:20250224T163214Z
UID:9641-1741372200-1741377600@lighthouse222.com
SUMMARY:Bible Study
DESCRIPTION:Join us every Friday at 6:30pm for Bible Study! Come dive into scripture with us and get a free hot meal. \n— \nOur extended hands mission is a street team that evangelize’s and distributes care packages to homeless on the street and in shelters\, drug rehabs and battered women and children facilities. We also invite them to Friday night bibles study were we serve hot meals. If you are lead to sow into this mission you can by simply tapping the link below. \nSupport
URL:https://lighthouse222.com/event/bible-study-mar-7/
LOCATION:Lighthouse 222 Ministry\, 182 W Jackson St\, Painesville\, Ohio\, 44077
ATTACH;FMTTYPE=image/jpeg:https://lighthouse222.com/wp-content/uploads/2025/02/image0-3.jpeg
END:VEVENT
BEGIN:VEVENT
DTSTART;TZID=America/Detroit:20250228T183000
DTEND;TZID=America/Detroit:20250228T200000
DTSTAMP:20260424T051324
CREATED:20250224T161956Z
LAST-MODIFIED:20250224T162126Z
UID:9634-1740767400-1740772800@lighthouse222.com
SUMMARY:Bible Study
DESCRIPTION:Join us every Friday at 6:30pm for Bible Study! Come dive into scripture with us and get a free hot meal. \n— \nOur extended hands mission is a street team that evangelize’s and distributes care packages to homeless on the street and in shelters\, drug rehabs and battered women and children facilities. We also invite them to Friday night bibles study were we serve hot meals. If you are lead to sow into this mission you can by simply tapping the link below. \nSupport
URL:https://lighthouse222.com/event/bible-study/
LOCATION:Lighthouse 222 Ministry\, 182 W Jackson St\, Painesville\, Ohio\, 44077
ATTACH;FMTTYPE=image/jpeg:https://lighthouse222.com/wp-content/uploads/2025/02/image0-3.jpeg
END:VEVENT
END:VCALENDAR